BEGIN:VCALENDAR
VERSION:2.0
PRODID:-//Fórum Luísa Todi - ECPv4.6.9//NONSGML v1.0//EN
CALSCALE:GREGORIAN
METHOD:PUBLISH
X-WR-CALNAME:Fórum Luísa Todi
X-ORIGINAL-URL:https://www.forumluisatodi.pt
X-WR-CALDESC:Events for Fórum Luísa Todi
BEGIN:VEVENT
DTSTART;TZID=Europe/Lisbon:20231127T210000
DTEND;TZID=Europe/Lisbon:20231127T223000
DTSTAMP:20260423T104045
CREATED:20230928T160029Z
LAST-MODIFIED:20231123T164418Z
UID:74195-1701118800-1701124200@www.forumluisatodi.pt
SUMMARY:O Cerco
DESCRIPTION:Marta\, jovem e bonita\, deixa o marido para começar uma viagem em procura da sua própria identidade. \nNão sabe ao certo o que procurar\, mas pelo menos sabe o que está a deixar para trás. \nDepressa vê-se a braços com dificuldades financeiras e acaba por se envolver com quem não deve\, relações que a colocam sob os holofotes de um homicídio. \n  \n
URL:https://www.forumluisatodi.pt/espetaculo/o-cerco/
CATEGORIES:Cinema
ATTACH;FMTTYPE=image/png:https://www.forumluisatodi.pt/wp-content/uploads/2023/09/O-Cerco.png
END:VEVENT
END:VCALENDAR