BEGIN:VCALENDAR
VERSION:2.0
PRODID:-//Fórum Luísa Todi - ECPv4.6.9//NONSGML v1.0//EN
CALSCALE:GREGORIAN
METHOD:PUBLISH
X-WR-CALNAME:Fórum Luísa Todi
X-ORIGINAL-URL:https://www.forumluisatodi.pt
X-WR-CALDESC:Events for Fórum Luísa Todi
BEGIN:VEVENT
DTSTART;TZID=Europe/Lisbon:20190121T210000
DTEND;TZID=Europe/Lisbon:20190121T211000
DTSTAMP:20260423T233115
CREATED:20181220T145124Z
LAST-MODIFIED:20181220T145124Z
UID:68089-1548104400-1548105000@www.forumluisatodi.pt
SUMMARY:O AVENTUREIRO DE CINCINNATI
DESCRIPTION:Um jovem jogador de póquer de Nova Orleans\, conhecido como Cincinnati Kid\, tem um talento natural e ambiciona ser o melhor de todos. \nQuando tem a oportunidade de derrotar o lendário Lancey Howard\, descobre que o jogo poderá não estar a ser disputado com lealdade pois terá armado por um inimigo do veterano jogador. \n  \n
URL:https://www.forumluisatodi.pt/espetaculo/o-aventureiro-de-cincinnati/
CATEGORIES:Cinema
ATTACH;FMTTYPE=image/jpeg:https://www.forumluisatodi.pt/wp-content/uploads/2018/12/CincinattiKid_site.jpg
END:VEVENT
END:VCALENDAR