BEGIN:VCALENDAR
VERSION:2.0
PRODID:-//Fórum Luísa Todi - ECPv4.6.9//NONSGML v1.0//EN
CALSCALE:GREGORIAN
METHOD:PUBLISH
X-WR-CALNAME:Fórum Luísa Todi
X-ORIGINAL-URL:https://www.forumluisatodi.pt
X-WR-CALDESC:Events for Fórum Luísa Todi
BEGIN:VEVENT
DTSTART;TZID=Europe/Lisbon:20211108T210000
DTEND;TZID=Europe/Lisbon:20211108T210000
DTSTAMP:20260419T205226
CREATED:20210921T141151Z
LAST-MODIFIED:20210922T104547Z
UID:71751-1636405200-1636405200@www.forumluisatodi.pt
SUMMARY:NOPO Orchestra
DESCRIPTION:Concerto do festival Misty Fest 2021\, com Rão Kyao\, Karl Seglem e Francisco Sales. \nA música é a mais universal das linguagens\, uma engenharia invisível feita de sons e melodias\, de ritmos e contrapontos\, de harmonias\, que permitem sustentar verdadeiras pontes\, ligações fortes\, entre povos e culturas. Esse é o ponto de partida de NOPO Orchestra\, projeto que marca o reencontro dos mestres Rão Kyao e Karl Seglem\, de Portugal e da Noruega. \nRão\, pois claro\, é referência maior das últimas décadas de história da música portuguesa\, um dos seus mais relevantes embaixadores e um homem habituado a dialogar com o mundo\, da Ásia à América do Sul e da África a toda a Europa. Karl Seglem\, por outro lado\, é um dos mais reverenciados músicos\, compositores e poetas da Noruega. Ambos saxofonistas de raiz\, tanto Rão como Karl buscaram outros sons noutros instrumentos como forma de se ligarem a um sentir talvez mais místico ou ancestral: as flautas de bambu\, no caso do mestre português\, os chifres de cabra\, no caso do norueguês. Em ambos os casos\, instrumentos que recuam no tempo\, que carregam história e tradição\, mas que também podem traduzir o futuro. \nNeste concerto\, Rão Kyao e Karl Seglem terão ao seu lado Francisco Sales\, guitarrista português que gravou dois trabalhos altamente aplaudidos internacionalmente\, “Valediction” e “Miles Away”. Dois passaportes que lhe permitiram tocar com vários expoentes da cena jazz internacional\, a partir da sua base de carreira\, em Londres. \nNeste concerto\, a música popular da Noruega e de Portugal fundem-se num jogo de emoções\, de mestrias e de cumplicidade\, procurando\, através de “espaços e surpresas”\, como refere Seglem\, ilustrar o que ambas as nações têm em comum\, nomeadamente um certo pendor melancólico que puxa a saudade. Com vários excelentes e jovens músicos em palco\, a verdadeira orquestra transnacional tocará música dos dois autores em destaque\, mas também reconhecíveis pérolas do reportório tradicional de cada um dos países. \n
URL:https://www.forumluisatodi.pt/espetaculo/nopo-orchestra/
CATEGORIES:Música
ATTACH;FMTTYPE=image/png:https://www.forumluisatodi.pt/wp-content/uploads/2021/09/nopo.png
END:VEVENT
END:VCALENDAR