BEGIN:VCALENDAR
VERSION:2.0
PRODID:-//Fórum Luísa Todi - ECPv4.6.9//NONSGML v1.0//EN
CALSCALE:GREGORIAN
METHOD:PUBLISH
X-WR-CALNAME:Fórum Luísa Todi
X-ORIGINAL-URL:https://www.forumluisatodi.pt
X-WR-CALDESC:Events for Fórum Luísa Todi
BEGIN:VEVENT
DTSTART;TZID=Europe/Lisbon:20211017T170000
DTEND;TZID=Europe/Lisbon:20211017T170000
DTSTAMP:20260420T074824
CREATED:20210917T153819Z
LAST-MODIFIED:20210922T104342Z
UID:71700-1634490000-1634490000@www.forumluisatodi.pt
SUMMARY:Nielsen | Schubert
DESCRIPTION:Concerto da Orquestra Académica Metropolitana\, com a solista Joana Neves (clarinetista e vencedora da 10.ª edição do Prémio Fundação INATEL)\, sob direção do maestro Jean-Marc Burﬁn e/ou alunos da licenciatura em Música da ANSO. \nSobre o reportório \nO nome de Carl Nielsen ainda é relativamente desconhecido da generalidade das pessoas. É\, todavia\, um dos compositores mais importantes entre aqueles que protagonizaram a transição do século XIX para o século XX\, altura em que se fez sentir uma mudança profunda de estilos e linguagens no panorama musical europeu. \nEntre as obras mais importantes que nos deixou\, contam-se seis sinfonias\, duas óperas e inúmeras canções inspiradas em melodias tradicionais. \nMas aquelas que melhor distinguem o seu legado foram escritas mais perto do final da vida. É o caso da curta elegia para cordas com que em 1910 homenageou o pintor Oluf Hartmann e\, sobretudo\, o impetuoso Concerto para Clarinete\, de 1928. \nA estas duas\, junta-se aqui a sinfonia em que Franz Schubert se deixou contagiar pela popularidade de Gioachino Rossini. \nDestaca-se o último andamento\, um verdadeiro jorro de imaginação e criatividade. \nCovid-19 | Plano de Contingência do Fórum Municipal Luísa Todi \n
URL:https://www.forumluisatodi.pt/espetaculo/nielsen-schubert/
CATEGORIES:Música
ATTACH;FMTTYPE=image/jpeg:https://www.forumluisatodi.pt/wp-content/uploads/2021/09/Nielsen-Schubert-JoanaNeves-OAM.jpg
END:VEVENT
END:VCALENDAR