BEGIN:VCALENDAR
VERSION:2.0
PRODID:-//Fórum Luísa Todi - ECPv4.6.9//NONSGML v1.0//EN
CALSCALE:GREGORIAN
METHOD:PUBLISH
X-WR-CALNAME:Fórum Luísa Todi
X-ORIGINAL-URL:https://www.forumluisatodi.pt
X-WR-CALDESC:Events for Fórum Luísa Todi
BEGIN:VEVENT
DTSTART;TZID=Europe/Lisbon:20220330T210000
DTEND;TZID=Europe/Lisbon:20220330T223000
DTSTAMP:20260424T030433
CREATED:20220223T125239Z
LAST-MODIFIED:20220223T142231Z
UID:72394-1648674000-1648679400@www.forumluisatodi.pt
SUMMARY:Nenny
DESCRIPTION:A estreia absoluta de Nenny em Setúbal dá-se a convite da Divisão de Juventude da Câmara Municipal\, no âmbito do programa m@rço.28\, que comemora localmente o Mês da Juventude. \nCom influências que vão do funaná cabo-verdiano ao hip-hop e r&b\, Nenny é autora de hits como “Sushi”\, single de estreia que alcançou a dupla platina\, “Bússola”\, platina em apenas quatro meses\, “On You”\, “Dona Maria” ou\, mais recentemente\, “Tequila”\, apresentado no conceituado programa internacional “COLORS”. \nCom nomeações para os Globos de Ouro\, Prémios Play da Música Portuguesa e para os prémios Music Moves Europe\, da Comissão Europeia\, Nenny é já uma certeza da música nacional. \n
URL:https://www.forumluisatodi.pt/espetaculo/nenny/
CATEGORIES:Música
ATTACH;FMTTYPE=image/jpeg:https://www.forumluisatodi.pt/wp-content/uploads/2022/02/Nenny.jpg
END:VEVENT
END:VCALENDAR