BEGIN:VCALENDAR
VERSION:2.0
PRODID:-//Fórum Luísa Todi - ECPv4.6.9//NONSGML v1.0//EN
CALSCALE:GREGORIAN
METHOD:PUBLISH
X-WR-CALNAME:Fórum Luísa Todi
X-ORIGINAL-URL:https://www.forumluisatodi.pt
X-WR-CALDESC:Events for Fórum Luísa Todi
BEGIN:VEVENT
DTSTART;TZID=Europe/Lisbon:20190114T210000
DTEND;TZID=Europe/Lisbon:20190114T211000
DTSTAMP:20260425T113243
CREATED:20181220T143828Z
LAST-MODIFIED:20181220T143828Z
UID:68081-1547499600-1547500200@www.forumluisatodi.pt
SUMMARY:NA SOMBRA E NO SILÊNCIO
DESCRIPTION:Após a Grande Depressão de 1929\, o advogado Atticus Finch vive com os filhos na pacata Maycomb\, no Alabama\, Estados Unidos da América. \nO advogado\, íntegro e respeitado na cidade\, decide defender um jovem negro de uma acusação injusta de abuso sexual. \nA conservadora cidade volta-se contra ele\, apesar de a inocência do rapaz ser evidente. \nBaseado no romance “To Kill a Mockingbird”\, de Harper Lee\, é um filme de tribunal que apresenta\, sob a ótica de duas crianças\, valores básicos como a ética e a dignidade. \n  \n
URL:https://www.forumluisatodi.pt/espetaculo/na-sombra-e-no-silencio/
CATEGORIES:Cinema
ATTACH;FMTTYPE=image/jpeg:https://www.forumluisatodi.pt/wp-content/uploads/2018/12/Sombra_e_Silêncio_site.jpg
END:VEVENT
END:VCALENDAR