BEGIN:VCALENDAR
VERSION:2.0
PRODID:-//Fórum Luísa Todi - ECPv4.6.9//NONSGML v1.0//EN
CALSCALE:GREGORIAN
METHOD:PUBLISH
X-WR-CALNAME:Fórum Luísa Todi
X-ORIGINAL-URL:https://www.forumluisatodi.pt
X-WR-CALDESC:Events for Fórum Luísa Todi
BEGIN:VEVENT
DTSTART;TZID=Europe/Lisbon:20240831T213000
DTEND;TZID=Europe/Lisbon:20240831T233000
DTSTAMP:20260419T235951
CREATED:20240814T150752Z
LAST-MODIFIED:20240814T150752Z
UID:75069-1725139800-1725147000@www.forumluisatodi.pt
SUMMARY:Moço da Cola
DESCRIPTION: \n“COLA forte. Matéria animal. É extraída dos ossos\, músculos\, tendões e\, principalmente\, do couro dos bois e outros animais velhos.” \nEduardo Faria \nCom “Moço da Cola” continuamos a laborar no Ciclo da Invisibilidade\, dando voz aos seres socialmente invisíveis\, pela indiferença a que a sociedade os vota\, seja por motivos raciais\, económicos ou outros. \nO “Moço da Cola” pretende ser um objeto artístico que\, partindo da história local\, permite refletir sobre um momento crucial na história do país – o 3.º quartel do séc. XX – e as mudanças que então ocorreram. \nOs moços da cola eram crianças que cedo abandonavam a escola para ajudarem\, com o seu parco rendimento\, a economia doméstica. \n
URL:https://www.forumluisatodi.pt/espetaculo/moco-da-cola/
CATEGORIES:Teatro
ATTACH;FMTTYPE=image/jpeg:https://www.forumluisatodi.pt/wp-content/uploads/2024/08/MocoCola.jpg
END:VEVENT
END:VCALENDAR