BEGIN:VCALENDAR
VERSION:2.0
PRODID:-//Fórum Luísa Todi - ECPv4.6.9//NONSGML v1.0//EN
CALSCALE:GREGORIAN
METHOD:PUBLISH
X-WR-CALNAME:Fórum Luísa Todi
X-ORIGINAL-URL:https://www.forumluisatodi.pt
X-WR-CALDESC:Events for Fórum Luísa Todi
BEGIN:VEVENT
DTSTART;TZID=Europe/Lisbon:20190516T213000
DTEND;TZID=Europe/Lisbon:20190516T214000
DTSTAMP:20260421T130814
CREATED:20190417T135913Z
LAST-MODIFIED:20190423T161113Z
UID:68654-1558042200-1558042800@www.forumluisatodi.pt
SUMMARY:MIGUEL ARAÚJO
DESCRIPTION:Em Casca de Noz\, Miguel Araújo apresenta-se sozinho no palco\, à deriva\, por entre guitarras\, ukeleles\, um piano e as canções. Aquelas que o músico compôs para ele próprio cantar\, outras que escreveu para serem cantadas por outros e ainda as que vierem a propósito na altura.\nO espetáculo Casca de Noz é a imagem dessa embarcação frágil\, que pode colapsar e afundar a qualquer momento. Mas também é a expressão que os anglófonos usam quando querem recorrer ao poder da síntese. \nCasca de Noz é também imagem de coisa robusta. Podem ser as músicas e essa força de poderem existir como quando nasceram\, tocadas só ao piano ou à guitarra. \nO cantautor confessa que anda sempre à procura dessas canções. “Aquelas que caem na rede de caçar borboletas que um compositor nunca recolhe. Sonho com aquelas que\, de tão imensas\, cabem dentro duma casca de noz.” \n
URL:https://www.forumluisatodi.pt/espetaculo/miguel-araujo/
CATEGORIES:Música
ATTACH;FMTTYPE=image/jpeg:https://www.forumluisatodi.pt/wp-content/uploads/2019/04/Casca_de_Noz_site.jpg
END:VEVENT
END:VCALENDAR