BEGIN:VCALENDAR
VERSION:2.0
PRODID:-//Fórum Luísa Todi - ECPv4.6.9//NONSGML v1.0//EN
CALSCALE:GREGORIAN
METHOD:PUBLISH
X-WR-CALNAME:Fórum Luísa Todi
X-ORIGINAL-URL:https://www.forumluisatodi.pt
X-WR-CALDESC:Events for Fórum Luísa Todi
BEGIN:VEVENT
DTSTART;TZID=Europe/Lisbon:20240601T213000
DTEND;TZID=Europe/Lisbon:20240601T230000
DTSTAMP:20260419T223327
CREATED:20231130T172732Z
LAST-MODIFIED:20240206T113117Z
UID:74399-1717277400-1717282800@www.forumluisatodi.pt
SUMMARY:Mart'Nália & Paulinho Moska
DESCRIPTION:Paulinho Moska sempre atuou com voz e guitarra. Reconhecido cantor e compositor no Brasil e internacionalmente\, é um músico com uma relação muito próxima com a América Latina e artistas latinos. \nMart’Nália nasceu com o samba\, mas ouve todo o género musical. Ela é assim desde que gravou o primeiro LP e se apaixonou pela música. Mart’Nália ganhou dois Latin Grammys\, em 2017\, com o álbum “+Misturado”\, e em 2019\, com o o trabalho “Mart’Nália canta Vinicius de Moraes”\, na categoria “Melhor Álbum de Samba”. \nAlém de serem amigos e parceiros há vários anos\, Mart’Nália e Moska têm no tema “Namora Comigo” um verdadeiro hino do dueto. \nO reportório da dupla é feito de grandes êxitos de ambos os artistas\, que\, na partilha do palco\, interpretam os próprios temas. Este é um encontro musical único entre dois dos maiores nomes da Música Popular Brasileira. \n
URL:https://www.forumluisatodi.pt/espetaculo/martnalia-paulinho-moska/
CATEGORIES:Música
ATTACH;FMTTYPE=image/png:https://www.forumluisatodi.pt/wp-content/uploads/2023/11/Martnalia-Moska.png
END:VEVENT
END:VCALENDAR