BEGIN:VCALENDAR
VERSION:2.0
PRODID:-//Fórum Luísa Todi - ECPv4.6.9//NONSGML v1.0//EN
CALSCALE:GREGORIAN
METHOD:PUBLISH
X-WR-CALNAME:Fórum Luísa Todi
X-ORIGINAL-URL:https://www.forumluisatodi.pt
X-WR-CALDESC:Events for Fórum Luísa Todi
BEGIN:VEVENT
DTSTART;TZID=Europe/Lisbon:20211005T213000
DTEND;TZID=Europe/Lisbon:20211005T213000
DTSTAMP:20260422T085025
CREATED:20210909T155026Z
LAST-MODIFIED:20210927T094531Z
UID:71668-1633469400-1633469400@www.forumluisatodi.pt
SUMMARY:María de Buenos Aires
DESCRIPTION:“María de Buenos Aires” é um espetáculo teatral/musical — o primeiro no género de ópera-tango de Astor Piazzolla — com libreto de Horacio Ferrer\, poeta uruguaio-argentino que escreveu também poemas para vários tangos de Piazzolla. \nO enredo\, complexo e com laivos surrealistas\, desenvolve-se ao longo de 17 quadros\, alternando entre secções cantadas\, recitadas ou exclusivamente instrumentais\, onde acompanhamos a vida\, morte\, ressurreição e maternidade de María. A protagonista deambula entre personagens típicos e cenas do quotidiano da capital argentina\, cruzando-se com um poeta narrador\, que é também um duende\, várias marionetas sob seu controle e um circo de psicanalistas. \nMaría e a sua sombra são a representação de Buenos Aires\, associadas ao tango\, à vida das ruas e da noite. Mas a personagem encerra em si múltiplas leituras e surge frequentemente associada tanto à Virgem Maria e a Jesus Cristo\, como à condição feminina. \nA obra estreou na Sala Planeta\, em Buenos Aires\, a 8 de maio de 1968. O próprio compositor classificou-a de “Operita”\, que poderemos considerar “de Câmara”\, e é apresentada com um efetivo de onze instrumentistas\, dois cantores solistas (uma soprano e um barítono)\, um recitante e um grupo coral de pequeno formato (com quatro a seis elementos)\, também recitante. \n
URL:https://www.forumluisatodi.pt/espetaculo/maria-de-buenos-aires/
CATEGORIES:Música
ATTACH;FMTTYPE=image/jpeg:https://www.forumluisatodi.pt/wp-content/uploads/2021/09/MariaBuenosAires-DavidMariano.jpg
END:VEVENT
END:VCALENDAR