BEGIN:VCALENDAR
VERSION:2.0
PRODID:-//Fórum Luísa Todi - ECPv4.6.9//NONSGML v1.0//EN
CALSCALE:GREGORIAN
METHOD:PUBLISH
X-WR-CALNAME:Fórum Luísa Todi
X-ORIGINAL-URL:https://www.forumluisatodi.pt
X-WR-CALDESC:Events for Fórum Luísa Todi
BEGIN:VEVENT
DTSTART;TZID=Europe/Lisbon:20211008T213000
DTEND;TZID=Europe/Lisbon:20211008T223000
DTSTAMP:20260422T102105
CREATED:20210909T150057Z
LAST-MODIFIED:20210922T104207Z
UID:70814-1633728600-1633732200@www.forumluisatodi.pt
SUMMARY:Mallu Magalhães
DESCRIPTION:Depois do grande ano que teve em 2018\, com concertos nas salas mais emblemáticas do país\, Coliseu de Lisboa e Porto\, e tendo passado por Madrid\, Barcelona e Amesterdão\, onde se apresentou de voz e viola\, Mallu Magalhães volta em força em 2021\, com um novo albúm\, “Esperança”\, produzido por Mario Caldato Jr.\, reputado produtor de nomes como Beastie Boys e Jack Johson e de videoclipes de Bruno Ilogti\, realizador que já trabalhou com Anitta e Fergie. \nCovid-19 | Plano de Contingência do Fórum Municipal Luísa Todi \n
URL:https://www.forumluisatodi.pt/espetaculo/mallu-magalhaes/
CATEGORIES:Música
ATTACH;FMTTYPE=image/jpeg:https://www.forumluisatodi.pt/wp-content/uploads/2020/12/MalluMagalhãescDaryanDornelles_2.jpg
END:VEVENT
END:VCALENDAR