BEGIN:VCALENDAR
VERSION:2.0
PRODID:-//Fórum Luísa Todi - ECPv4.6.9//NONSGML v1.0//EN
CALSCALE:GREGORIAN
METHOD:PUBLISH
X-WR-CALNAME:Fórum Luísa Todi
X-ORIGINAL-URL:https://www.forumluisatodi.pt
X-WR-CALDESC:Events for Fórum Luísa Todi
BEGIN:VEVENT
DTSTART;TZID=Europe/Lisbon:20190214T220000
DTEND;TZID=Europe/Lisbon:20190214T221000
DTSTAMP:20260423T163157
CREATED:20190114T115350Z
LAST-MODIFIED:20190123T115856Z
UID:68276-1550181600-1550182200@www.forumluisatodi.pt
SUMMARY:LUÍSA SOBRAL
DESCRIPTION:Luísa Sobral está de regresso aos palcos em 2019 com “Rosa”\, o quinto álbum de originais\, editado em novembro de 2018. \n“Rosa” foi produzido pelo catalão Raül Refree\, um dos mais prestigiados produtores e multi-instrumentistas de Espanha\, e foi gravado como se fosse ao vivo. \nAlém da voz e da guitarra\, Luísa Sobral e o produtor privilegiaram os instrumentos clássicos\, com a introdução de um trio de sopros e percussão clássica. \nEste é o álbum mais pessoal\, maduro e intimista de Luísa Sobral. A beleza das composições é realçada pelo despojamento dos arranjos e pela cumplicidade criativa entre Luísa e Refree. \nPara apresentar o novo trabalho\, a cantautora sobe ao palco com uma formação inédita\, com Mário Delgado\, nas guitarras\, e um trio de sopros formado por Sérgio Charrinho\, no fliscorne\, Angelo Caleira\, na trompa\, e Gil Gonçalves\, na tuba. \nLuísa Sobral sobe ao palco do Fórum Municipal Luísa Todi no Dia dos Namorados\, num concerto inserido no Festival Montepio “Às Vezes o Amor”\, que nos dias 14\, 15 e 16 celebra o amor com música e emoções distribuídas por dezassete cidades portuguesas com dezassete nomes da música portuguesa. \n
URL:https://www.forumluisatodi.pt/espetaculo/luisa-sobral/
CATEGORIES:Música
ATTACH;FMTTYPE=image/jpeg:https://www.forumluisatodi.pt/wp-content/uploads/2019/01/LUISA_SOBRAL_site.jpg
END:VEVENT
END:VCALENDAR