BEGIN:VCALENDAR
VERSION:2.0
PRODID:-//Fórum Luísa Todi - ECPv4.6.9//NONSGML v1.0//EN
CALSCALE:GREGORIAN
METHOD:PUBLISH
X-WR-CALNAME:Fórum Luísa Todi
X-ORIGINAL-URL:https://www.forumluisatodi.pt
X-WR-CALDESC:Events for Fórum Luísa Todi
BEGIN:VEVENT
DTSTART;TZID=Europe/Lisbon:20190204T210000
DTEND;TZID=Europe/Lisbon:20190204T211000
DTSTAMP:20260423T210013
CREATED:20190114T111612Z
LAST-MODIFIED:20190114T111612Z
UID:68256-1549314000-1549314600@www.forumluisatodi.pt
SUMMARY:LORD JIM
DESCRIPTION:Baseado no livro homónimo de 1900\, de Joseph Conrad\, o filme de Richard Brooks centra-se no drama de um jovem que se alista na Marinha\, mas vê a carreira ser arruinada na sequência de um incidente com um navio em que era o primeiro-oficial\, e no qual centenas de muçulmanos peregrinos foram abandonados à morte. \nJim torna-se errante e procura trabalho de porto em porto. Quando conhece o comerciante Stein\, tem a oportunidade de resgatar a honra e inicia o caminho da redenção. \n  \n
URL:https://www.forumluisatodi.pt/espetaculo/lord-jim/
CATEGORIES:Cinema
ATTACH;FMTTYPE=image/jpeg:https://www.forumluisatodi.pt/wp-content/uploads/2019/01/lord_jim_site.jpg
END:VEVENT
END:VCALENDAR