BEGIN:VCALENDAR
VERSION:2.0
PRODID:-//Fórum Luísa Todi - ECPv4.6.9//NONSGML v1.0//EN
CALSCALE:GREGORIAN
METHOD:PUBLISH
X-WR-CALNAME:Fórum Luísa Todi
X-ORIGINAL-URL:https://www.forumluisatodi.pt
X-WR-CALDESC:Events for Fórum Luísa Todi
BEGIN:VEVENT
DTSTART;TZID=Europe/Lisbon:20211112T210000
DTEND;TZID=Europe/Lisbon:20211112T223000
DTSTAMP:20260422T102045
CREATED:20201216T153551Z
LAST-MODIFIED:20210922T104614Z
UID:70850-1636750800-1636756200@www.forumluisatodi.pt
SUMMARY:Loosense
DESCRIPTION:“Loosense” é um projeto de Pedro Nobre\, bateria\, Iúri Oliveira\, percussões\, Diogo Marrafa e Rafael Gil\, guitarras\, Gonçalo Mahú e Diogo Costa\, teclados\, Zé Zambujo\, saxofone\, Rúben Garção da Silva\, saxofone alto\, e Ivo Rodrigues\, trompete. \nCom dois discos editados\, “Doze”\, em 2018\, e “Saloon”\, em 2019\, os Loosense atuam pela primeira vez no Fórum Luísa Todi\, num espetáculo que celebra seis anos de existência do grupo. \nAlém da improvisação\, os músicos misturam vários estilos musicais nas composições. Do funk ao jazz\, do hip-hop ao gospel e soul. \nCovid-19 | Plano de Contingência do Fórum Municipal Luísa Todi \n
URL:https://www.forumluisatodi.pt/espetaculo/loosense/
CATEGORIES:Música
ATTACH;FMTTYPE=image/png:https://www.forumluisatodi.pt/wp-content/uploads/2020/12/2019_Saloon.png
END:VEVENT
END:VCALENDAR