BEGIN:VCALENDAR
VERSION:2.0
PRODID:-//Fórum Luísa Todi - ECPv4.6.9//NONSGML v1.0//EN
CALSCALE:GREGORIAN
METHOD:PUBLISH
X-WR-CALNAME:Fórum Luísa Todi
X-ORIGINAL-URL:https://www.forumluisatodi.pt
X-WR-CALDESC:Events for Fórum Luísa Todi
BEGIN:VEVENT
DTSTART;TZID=Europe/Lisbon:20220604T210000
DTEND;TZID=Europe/Lisbon:20220604T220000
DTSTAMP:20260425T115612
CREATED:20220406T111132Z
LAST-MODIFIED:20220421T133419Z
UID:72586-1654376400-1654380000@www.forumluisatodi.pt
SUMMARY:LLUVIA
DESCRIPTION:“Lluvia” fala do que se passa connosco\, do que sentimos quando queremos algo e o perdemos. Fala desse tempo essencial\, em que a tristeza nos acompanha para acalmar o que nos dói. Fala de perdas\, grandes ou pequenas\, como uma coisa natural. \nCompanhia Markeliñe \nMais de 25 anos de Teatro Visual e Criação Original. \nO cuidado visual\, os gestos do ator\, a pesquisa sobre objetos e linguagens\, compõem a sua maneira de fazer\, comprometendo-se com a criação original e a contemporaneidade. \nHistórias que envolvem o mundo e o tempo em que vivemos. Com um olhar crítico sobre o momento e a memória. Histórias mínimas\, universais\, emocionais\, poéticas. \n4 de junho – 21h00 – Teatro Luísa Tody\, Setúbal \nMarkeliñe (Viscaya\, Espanha) – “Lluvia” \nTeatro visual sem palavra; m/6; duração: 60 min. \n
URL:https://www.forumluisatodi.pt/espetaculo/lluvia/
CATEGORIES:Teatro
ATTACH;FMTTYPE=image/jpeg:https://www.forumluisatodi.pt/wp-content/uploads/2022/04/Markeline-Lluvia.jpg
END:VEVENT
END:VCALENDAR