BEGIN:VCALENDAR
VERSION:2.0
PRODID:-//Fórum Luísa Todi - ECPv4.6.9//NONSGML v1.0//EN
CALSCALE:GREGORIAN
METHOD:PUBLISH
X-WR-CALNAME:Fórum Luísa Todi
X-ORIGINAL-URL:https://www.forumluisatodi.pt
X-WR-CALDESC:Events for Fórum Luísa Todi
BEGIN:VEVENT
DTSTART;TZID=Europe/Lisbon:20190303T230000
DTEND;TZID=Europe/Lisbon:20190303T231000
DTSTAMP:20260421T174040
CREATED:20190213T173403Z
LAST-MODIFIED:20190213T173403Z
UID:68582-1551654000-1551654600@www.forumluisatodi.pt
SUMMARY:LEVANTA-TE E RI
DESCRIPTION:Levanta-te e Ri é um programa de televisão ao vivo de stand up comedy\, produzido e transmitido originalmente pela SIC.\nApresentado por Marco Horácio\, o espetáculo conta com a participação de vários comediantes portugueses que prometem proporcionar momentos hilariantes\, como Diogo Batáguas\, Francisco Menezes\, Guilherme Duarte\, Jel e Fernando Rocha. \n
URL:https://www.forumluisatodi.pt/espetaculo/levanta-te-e-ri/
CATEGORIES:Teatro
ATTACH;FMTTYPE=image/jpeg:https://www.forumluisatodi.pt/wp-content/uploads/2019/02/03DOM_Levanta_te_e_Ri.jpg
END:VEVENT
END:VCALENDAR