BEGIN:VCALENDAR
VERSION:2.0
PRODID:-//Fórum Luísa Todi - ECPv4.6.9//NONSGML v1.0//EN
CALSCALE:GREGORIAN
METHOD:PUBLISH
X-WR-CALNAME:Fórum Luísa Todi
X-ORIGINAL-URL:https://www.forumluisatodi.pt
X-WR-CALDESC:Events for Fórum Luísa Todi
BEGIN:VEVENT
DTSTART;TZID=Europe/Lisbon:20230526T210000
DTEND;TZID=Europe/Lisbon:20230526T230000
DTSTAMP:20260424T110936
CREATED:20230411T152949Z
LAST-MODIFIED:20230411T152949Z
UID:73960-1685134800-1685142000@www.forumluisatodi.pt
SUMMARY:Julio Resende
DESCRIPTION:O mais recente espetáculo do pianista e compositor Júlio Resende\, “Júlio Resende – Fado Jazz Ensemble”\, caracteriza-se por uma surpreendente e original combinação entre os dois estilos musicais referidos: Fado e Jazz. Tudo isto com a participação em palco do Coral Infantil de Setúbal e da Escola de Jazz da Capricho Setubalense. \nCom música original composta por Júlio Resende\, que também assume\, pela primeira vez\, a autoria da letra da única canção interpretada pela fadista Lina\, em “Profecia”\, este trabalho conta ainda com a presença de Bruno Chaveiro na guitarra portuguesa (um instrumento que detém uma sonoridade muito particular e típica)\, Alexandre Frazão na percussão e André Rosinha no contrabaixo. \nEste projeto inclui um gesto inédito: sendo Júlio Resende o único artista autorizado a utilizar a voz da Amália Rodrigues nos seus espetáculos\, poderemos contar com um dueto impossível entre ele próprio e a extraordinária Diva do Fado na canção “Medo”. \n  \n“É uma seta com uma ventosa na ponta\, lançada a um alvo chamado ‘peito’. Se acertar\, espera encontrar nesse lugar uma ligação forte\, que não caia\, como se a ventosa virasse pele. Algo que perdure\, é isso que a minha música quer ser. Sobre o disco\, é um disco livre\, em que a guitarra portuguesa e o piano se intersectam\, e com o contrabaixo e a bateria que tentam aproveitar ao máximo esse novo lugar que descobrem juntos. Passeiam-se. Se é Fado\, se é Jazz\, não sei\, pode ser ambos\, mas na realidade não sei\, porque quem sabe normalmente não avança. Quem já sabe está parado nesse saber. Prefiro não saber\, apenas ir\, livre. Como o som.”\nJúlio Resende \n \n
URL:https://www.forumluisatodi.pt/espetaculo/julio-resende/
CATEGORIES:Música
ATTACH;FMTTYPE=image/jpeg:https://www.forumluisatodi.pt/wp-content/uploads/2023/04/JulioResende.jpg
END:VEVENT
END:VCALENDAR