BEGIN:VCALENDAR
VERSION:2.0
PRODID:-//Fórum Luísa Todi - ECPv4.6.9//NONSGML v1.0//EN
CALSCALE:GREGORIAN
METHOD:PUBLISH
X-WR-CALNAME:Fórum Luísa Todi
X-ORIGINAL-URL:https://www.forumluisatodi.pt
X-WR-CALDESC:Events for Fórum Luísa Todi
BEGIN:VEVENT
DTSTART;TZID=Europe/Lisbon:20220407T210000
DTEND;TZID=Europe/Lisbon:20220407T220000
DTSTAMP:20260424T055848
CREATED:20220225T153459Z
LAST-MODIFIED:20220225T153459Z
UID:72414-1649365200-1649368800@www.forumluisatodi.pt
SUMMARY:JORGE PALMA com VICENTE PALMA
DESCRIPTION:Jorge Palma é um caso raro em Portugal. Compositor e intérprete admirado pelos colegas\, amado pelo público\, demasiado célebre para o papel de génio obscuro\, demasiado genuíno e rebelde para ser um músico previsível e formatado. \nO seu percurso de vida observa-se sempre a par da música. Exímio pianista\, começou a aprender a tocar este instrumento apenas com seis anos de idade. Durante a adolescência e a par da formação erudita\, começa a interessar-se pelo rock’n’roll e de um modo geral pela música popular americana e inglesa. Durante os anos 70 e o princípio da década de 80\, o seu percurso artístico dividiu-se entre as suas primeiras edições fonográficas em Portugal e as ruas e carruagens de metro de cidades europeias como Paris e Copenhaga\, onde enfrentava o público de guitarra em punho. \nTerminou o Curso Superior de Piano em 1990 e\, no ano seguinte\, editou o emblemático álbum “Só”. Na mesma década formou o “Palma’s Gang” e integrou projetos como os “Rio Grande” ou os “Cabeças no Ar”. Ao longo da sua carreira lançou vários discos de originais\, compôs êxitos e somou discos de ouro\, tendo atingido a marca da dupla platina com “Voo Nocturno”.  A sua obra contém canções amplamente transversais com temas como “Frágil”\, “Deixa-me Rir”\, “Dá-me Lume” ou “Encosta-te a mim”\, que se tornaram hinos intemporais. \nEm 2020 celebrou “70 Voltas ao Sol” no Castelo São Jorge\, num espetáculo com uma orquestra de câmara dirigida pelo maestro Cesário Costa e com arranjos dos compositores Filipe Melo e Filipe Raposo. Foi ainda agraciado com a Medalha de Mérito Cultural da Cidade de Lisboa e com a Ordem do Infante Dom Henrique. \nVicente Palma é um músico multifacetado que conta com mais de 20 anos de experiência\, não só enquanto membro integrante da banda do seu pai\, mas também enquanto compositor e intérprete em nome próprio. Recentemente tornou-se também elemento residente do grupo “Tais Quais”\, onde\, além da voz e piano\, também compõe\, ao lado de Tim\, João Gil\, Vitorino\, Celina da Piedade\, Paulo Ribeiro\, Sebastião Santos e Serafim. Atua também enquanto músico ao lado da cantautora Joana Alegre. \nNeste espetáculo\, que reúne em palco pai e filho\, junta-se aos laços que os unem\, a cumplicidade única que a partilha da música lhes trouxe. Os dois harmonizam vozes e guitarras\, numa equação onde também o piano (paixão de ambos) não poderia falta \n
URL:https://www.forumluisatodi.pt/espetaculo/jorge-palma-com-vicente-palma/
CATEGORIES:Música
ATTACH;FMTTYPE=image/jpeg:https://www.forumluisatodi.pt/wp-content/uploads/2022/02/JorgePalma.jpg
END:VEVENT
END:VCALENDAR