BEGIN:VCALENDAR
VERSION:2.0
PRODID:-//Fórum Luísa Todi - ECPv4.6.9//NONSGML v1.0//EN
CALSCALE:GREGORIAN
METHOD:PUBLISH
X-WR-CALNAME:Fórum Luísa Todi
X-ORIGINAL-URL:https://www.forumluisatodi.pt
X-WR-CALDESC:Events for Fórum Luísa Todi
BEGIN:VEVENT
DTSTART;TZID=Europe/Lisbon:20230923T213000
DTEND;TZID=Europe/Lisbon:20230923T223000
DTSTAMP:20260423T105827
CREATED:20230711T115146Z
LAST-MODIFIED:20230711T115146Z
UID:74118-1695504600-1695508200@www.forumluisatodi.pt
SUMMARY:Jorge Moniz
DESCRIPTION:Jorge Moniz é um músico e compositor português cujo percurso se tem desenvolvido em múltiplas linguagens musicais que vão do Pop ao Jazz. \nO seu último trabalho\, intitulado “Cinematheque”\, dá continuidade à formação clássica do músico e revela as suas últimas experiências numa linguagem mais próxima do universo erudito\, nomeadamente através da instrumentação para piano\, quarteto de cordas\, clarinete baixo e voz\, a que se juntam discretas sonoridades eletrónicas. \nAs obras que dão corpo a este projeto foram compostas ao longo do ano de 2020 e revelam uma sonoridade próxima de uma atmosfera cinematográfica de toada melancólica e contemplativa\, resultado de um introspetivo processo composicional. \nA abordagem musical é complementada com uma forte componente visual\, quer através do desenho de luz\, como de imagens projetadas em tela\, numa estreita colaboração com o realizador Fernando Silva e por Chris Bigg\, na edição discográfica. \n
URL:https://www.forumluisatodi.pt/espetaculo/jorge-moniz/
CATEGORIES:Música
ATTACH;FMTTYPE=image/jpeg:https://www.forumluisatodi.pt/wp-content/uploads/2023/07/Cinematheque.jpg
END:VEVENT
END:VCALENDAR