BEGIN:VCALENDAR
VERSION:2.0
PRODID:-//Fórum Luísa Todi - ECPv4.6.9//NONSGML v1.0//EN
CALSCALE:GREGORIAN
METHOD:PUBLISH
X-WR-CALNAME:Fórum Luísa Todi
X-ORIGINAL-URL:https://www.forumluisatodi.pt
X-WR-CALDESC:Events for Fórum Luísa Todi
BEGIN:VEVENT
DTSTART;TZID=Europe/Lisbon:20241129T210000
DTEND;TZID=Europe/Lisbon:20241129T223000
DTSTAMP:20260420T000813
CREATED:20240830T155616Z
LAST-MODIFIED:20240830T155929Z
UID:75127-1732914000-1732919400@www.forumluisatodi.pt
SUMMARY:João Só
DESCRIPTION:Quem conhece o João raramente o vê sozinho. A sua carreira é uma rede que junta e cruza muitos artistas e amigos. Enquanto compositor\, produtor e artista\, não só partilha palcos como partilha canções. \nJoão Só celebra agora 15 anos de carreira com uma digressão especial. \nEm cada concerto\, um convidado diferente com histórias e temas de cada um\, mas em todos a certeza de ser um espetáculo inesquecível e carregado de boa disposição. \n15 anos Só\, mal acompanhado nunca! \nPara o Fórum Municipal Luisa Todi\, João Só convida Toy. \n
URL:https://www.forumluisatodi.pt/espetaculo/joao-so/
CATEGORIES:Música
ATTACH;FMTTYPE=image/jpeg:https://www.forumluisatodi.pt/wp-content/uploads/2024/08/JoaoSo.jpg
END:VEVENT
END:VCALENDAR