BEGIN:VCALENDAR
VERSION:2.0
PRODID:-//Fórum Luísa Todi - ECPv4.6.9//NONSGML v1.0//EN
CALSCALE:GREGORIAN
METHOD:PUBLISH
X-WR-CALNAME:Fórum Luísa Todi
X-ORIGINAL-URL:https://www.forumluisatodi.pt
X-WR-CALDESC:Events for Fórum Luísa Todi
BEGIN:VEVENT
DTSTART;TZID=Europe/Lisbon:20240405T210000
DTEND;TZID=Europe/Lisbon:20240405T220000
DTSTAMP:20260419T223445
CREATED:20240222T120032Z
LAST-MODIFIED:20240222T120032Z
UID:74638-1712350800-1712354400@www.forumluisatodi.pt
SUMMARY:João Mendonza canta Abril
DESCRIPTION:O tenor João Mendonza apresenta\, sob a sua influência e voz lírica\, os maiores temas da Revolução\, acompanhado pela Orquestra Ligeira do Conservatório Regional de Palmela\, dirigida pelo maestro José Condinho. \nEste concerto único é uma viagem à poesia\, canção e memória do 25 de Abril\, com obras de autores como José Afonso\, Fernando Tordo\, Ary dos Santos ou Paulo de Carvalho. \nCom a participação especial do cantor António Manuel Ribeiro (líder dos UHF) e dos atores Rita Ferraz (atriz setubalense) e José Martins (ator e fundador da Companhia de Teatro de Almada)\, conta também com a presença do histórico Coral Luísa Todi\, dirigido por Fernando Malão. \n
URL:https://www.forumluisatodi.pt/espetaculo/joao-mendonza-canta-abril/
CATEGORIES:Música
ATTACH;FMTTYPE=image/jpeg:https://www.forumluisatodi.pt/wp-content/uploads/2024/02/JoaoMendonza.jpeg
END:VEVENT
END:VCALENDAR