BEGIN:VCALENDAR
VERSION:2.0
PRODID:-//Fórum Luísa Todi - ECPv4.6.9//NONSGML v1.0//EN
CALSCALE:GREGORIAN
METHOD:PUBLISH
X-WR-CALNAME:Fórum Luísa Todi
X-ORIGINAL-URL:https://www.forumluisatodi.pt
X-WR-CALDESC:Events for Fórum Luísa Todi
BEGIN:VEVENT
DTSTART;TZID=Europe/Lisbon:20220303T210000
DTEND;TZID=Europe/Lisbon:20220303T210000
DTSTAMP:20260422T205835
CREATED:20220121T124943Z
LAST-MODIFIED:20220218T103140Z
UID:72179-1646341200-1646341200@www.forumluisatodi.pt
SUMMARY:Joan as Police Woman
DESCRIPTION:Nascida no Maine e criada com o irmão em Connecticut por pais adotivos\, Joan começou a estudar violino na escola primária. \nMais tarde\, continuou os estudos de violino da universidade\, escrevendo algumas peças para pequenos ensembles e\, simultaneamente\, fez parte de algumas bandas punk locais. \nEm 1994\, chegou a Brooklyn\, Nova Iorque\, e começou a trabalhar como instrumentista de estúdio\, tocando violino em todos os géneros\, do haitiano ao pop e R&B. \nEla tornou-se membro do ensemble de Anohni (anteriormente Antony and the Johnsons) e gravou “I Am A Bird Now”. \nFez também tournées com Rufus Wainwright\, para os álbuns “Want One” e “Want Two”\, tocando na banda. \nO primeiro disco\, “Real Life”\, rendeu-lhe  o Melhor Álbum de Rock e Pop no Independent Music Awards e\, o segundo álbum\, “To Survive”\, foi escolhido em 2008 como um dos Álbuns do Ano\, da Q Magazine. \nRecentemente\, Joan teve o prazer de substituir Guy Garvey\, da banda Elbow\, no programa BBC 6Music\, Guy Garvey’s Finest Hour. \nEm 2017\, ela e o pianista Thomas Bartlett (Doveman) co-escreveram a música para o filme “Permission”\, dirigido por Brian Crano. \nNo início de 2019\, Joan recordou os primeiros quinze anos de música e reuniu canções para um álbum de compilação de triplo disco\, “Joanthology”\, que também se tornou numa extensa e aclamada digressão mundial a solo. \nEm 2021\, Joan lançou o álbum “The solution is restless”. Uma colaboração de grande classe\, familiar\, mas singular\, com o mítico baterista Tony Allen. \nO álbum “The solution is restless” é um disco que penetra na pele\, que nos recorda alguns dos discos que mais adoramos e que simultaneamente soa a algo completamente novo. \nEste disco foi produzido durante a pandemia e foram usadas gravações feitas com Tony Allen em 2019. Dave Okumo\, um colaborador já habitual\, junta-se uma vez mais a esta super equipa e o resultado é um disco intenso mas subtil\, que navega por um universo de experiências e experimentações que desaguam num trabalho soberbo. \n
URL:https://www.forumluisatodi.pt/espetaculo/joan-as-police-woman/
CATEGORIES:Música
ATTACH;FMTTYPE=image/jpeg:https://www.forumluisatodi.pt/wp-content/uploads/2022/01/Joan.jpg
END:VEVENT
END:VCALENDAR