BEGIN:VCALENDAR
VERSION:2.0
PRODID:-//Fórum Luísa Todi - ECPv4.6.9//NONSGML v1.0//EN
CALSCALE:GREGORIAN
METHOD:PUBLISH
X-WR-CALNAME:Fórum Luísa Todi
X-ORIGINAL-URL:https://www.forumluisatodi.pt
X-WR-CALDESC:Events for Fórum Luísa Todi
BEGIN:VEVENT
DTSTART;TZID=Europe/Lisbon:20230625T150000
DTEND;TZID=Europe/Lisbon:20230625T170000
DTSTAMP:20260424T182239
CREATED:20230411T143015Z
LAST-MODIFIED:20230411T143015Z
UID:73930-1687705200-1687712400@www.forumluisatodi.pt
SUMMARY:IX FATuM – Unidos pelo Traje
DESCRIPTION:Os SemperT’unos\, tuna mista académica da Escola Superior de Saúde do Instituto Politécnico de Setúbal organiza o festival de tunas mistas IX FATuM – Unidos Pelo Traje nos dias 23\, 24 e 25 de junho de 2023\, sob o tema “Música Tradicional Portuguesa”. \nEste festival tem uma vertente solidária de recolha de tampas de plástico para ajudar Rodrigo\, o “bebé sem rosto”. \nO certame conta com a presença de quatro tunas mistas de diferentes partes de Portugal\, que disputam alguns prémios.  \nAlém da tarde de festival em si\, onde as tunas atuam em palco no dia 25 de junho\, no Fórum Luísa Todi\, o evento inclui uma noite de serenatas\, a 23 de junho\, numa noite de serenatas. \nDurante o dia 24\, as tunas andam pela cidade de Setúbal\, para que estas contagiem a população com a sua música e espírito.  \n
URL:https://www.forumluisatodi.pt/espetaculo/ix-fatum-unidos-pelo-traje/
CATEGORIES:Música
ATTACH;FMTTYPE=image/jpeg:https://www.forumluisatodi.pt/wp-content/uploads/2023/04/FATUM.jpg
END:VEVENT
END:VCALENDAR