BEGIN:VCALENDAR
VERSION:2.0
PRODID:-//Fórum Luísa Todi - ECPv4.6.9//NONSGML v1.0//EN
CALSCALE:GREGORIAN
METHOD:PUBLISH
X-WR-CALNAME:Fórum Luísa Todi
X-ORIGINAL-URL:https://www.forumluisatodi.pt
X-WR-CALDESC:Events for Fórum Luísa Todi
BEGIN:VEVENT
DTSTART;TZID=Europe/Lisbon:20210604T210000
DTEND;TZID=Europe/Lisbon:20210604T210000
DTSTAMP:20260422T115213
CREATED:20201216T113633Z
LAST-MODIFIED:20210506T120623Z
UID:71298-1622840400-1622840400@www.forumluisatodi.pt
SUMMARY:IMPERFECTHUS “Mal Passado”
DESCRIPTION:Neste espetáculo de comédia\, os Imperfecthus (André Martins e Cristiano Rodrigues) desafiam a vida para um combate frente a frente\, onde partilham os seus conflitos\, os seus vícios e o que vai na mente. \nAs personagens destacam-se em épicas batalhas de rimas. Cabe ao público decidir quais são as péssimas e as obras-primas. \nO projeto Imperfecthus nasceu em 2009 no YouTube pelas mãos dos humoristas André Martins e Cristiano Rodrigues. A ideia é simplesmente fazer vídeos cómicos\, explorando observações originais e perspetivas diferentes sobre situações do dia a dia. \n  \nCovid-19 | Plano de Contingência do Fórum Municipal Luísa Todi \n
URL:https://www.forumluisatodi.pt/espetaculo/imperfecthus-mal-passado/2021-06-04/
CATEGORIES:Outros
ATTACH;FMTTYPE=image/jpeg:https://www.forumluisatodi.pt/wp-content/uploads/2020/12/CARTAZ-HORIZONTAL-SETÚBAL-Impef.jpg
END:VEVENT
END:VCALENDAR