BEGIN:VCALENDAR
VERSION:2.0
PRODID:-//Fórum Luísa Todi - ECPv4.6.9//NONSGML v1.0//EN
CALSCALE:GREGORIAN
METHOD:PUBLISH
X-WR-CALNAME:Fórum Luísa Todi
X-ORIGINAL-URL:https://www.forumluisatodi.pt
X-WR-CALDESC:Events for Fórum Luísa Todi
BEGIN:VEVENT
DTSTART;TZID=Europe/Lisbon:20241216T210000
DTEND;TZID=Europe/Lisbon:20241216T230000
DTSTAMP:20260420T013721
CREATED:20241023T085806Z
LAST-MODIFIED:20241111T122442Z
UID:77273-1734382800-1734390000@www.forumluisatodi.pt
SUMMARY:Impacto Súbito
DESCRIPTION:Sensíveis a críticas de brutalidade por parte da polícia\, os superiores do detetive de São Francisco Harry Callahan mandam-no numa missão fora da cidade\, até as coisas acalmarem. Mas para onde quer que Harry vá\, as coisas só podem aquecer. \nCallahan acaba a perseguir uma traumatizada vítima de violação que está a matar friamente os seus antigos assaltantes. \nO filme faz parte da masterclass de Lauro António “Cinema Americano\, anos 80”\, com mais de seis dezenas de filmes selecionados pelo antigo cineasta e crítico cinematográfico\, falecido em 2022. \n
URL:https://www.forumluisatodi.pt/espetaculo/impacto-subito/
CATEGORIES:Cinema
ATTACH;FMTTYPE=image/jpeg:https://www.forumluisatodi.pt/wp-content/uploads/2024/10/ImpactoSubito.jpg
END:VEVENT
END:VCALENDAR