BEGIN:VCALENDAR
VERSION:2.0
PRODID:-//Fórum Luísa Todi - ECPv4.6.9//NONSGML v1.0//EN
CALSCALE:GREGORIAN
METHOD:PUBLISH
X-WR-CALNAME:Fórum Luísa Todi
X-ORIGINAL-URL:https://www.forumluisatodi.pt
X-WR-CALDESC:Events for Fórum Luísa Todi
BEGIN:VEVENT
DTSTART;TZID=Europe/Lisbon:20240308T210000
DTEND;TZID=Europe/Lisbon:20240308T220000
DTSTAMP:20260420T000121
CREATED:20240126T125508Z
LAST-MODIFIED:20240126T125508Z
UID:74598-1709931600-1709935200@www.forumluisatodi.pt
SUMMARY:Hugo Sousa
DESCRIPTION:Hugo Sousa é um comediante português criador da série”A Vida do Sousa”\, do “Podcast do Sousa”. \nConhecido de alguns dos maiores roasts realizados em Portugal\, um dos vencedores do “Betclic Mano a Mano”\, da TVI \,e é ator da novela “Festa é Festa”\, da mesma estação televisiva. \nA par de tudo\, nunca parou de fazer comédia em palco e depois do êxito do solo “Praticamente Estável”\, apresenta o “Lado Positivo”\, o seu 9.º solo de stand-up comedy\, um espetáculo de storytelling e observações hilariantes. \n
URL:https://www.forumluisatodi.pt/espetaculo/hugo-sousa/
CATEGORIES:Teatro
ATTACH;FMTTYPE=image/jpeg:https://www.forumluisatodi.pt/wp-content/uploads/2024/01/HugoSousa.jpg
END:VEVENT
END:VCALENDAR