BEGIN:VCALENDAR
VERSION:2.0
PRODID:-//Fórum Luísa Todi - ECPv4.6.9//NONSGML v1.0//EN
CALSCALE:GREGORIAN
METHOD:PUBLISH
X-WR-CALNAME:Fórum Luísa Todi
X-ORIGINAL-URL:https://www.forumluisatodi.pt
X-WR-CALDESC:Events for Fórum Luísa Todi
BEGIN:VEVENT
DTSTART;TZID=Europe/Lisbon:20250317T210000
DTEND;TZID=Europe/Lisbon:20250317T223000
DTSTAMP:20260419T132342
CREATED:20250106T172107Z
LAST-MODIFIED:20250205T151207Z
UID:77561-1742245200-1742250600@www.forumluisatodi.pt
SUMMARY:Gremlins
DESCRIPTION:Em Kingston Falls\, o inventor Rand Peltzer oferece ao filho Billy um presente de Natal muito original: um invulgar animal de estimação. \nBaptizado de Gizmo\, o animal mostra-se simpático\, inteligente e aparentemente inofensivo\, embora os donos tenham de respeitar três regras: o animalzinho não deve ser exposto à luz solar\, não pode ter qualquer contacto com água e nunca pode ser alimentado depois da meia-noite. \nAcidentalmente\, Gizmo molha-se e produz cinco criaturas que se transformam em monstros grotescos. \nA partir deste momento o caos ocupa a pequena cidade\, com pequenas criaturas a espalharem terror com o seu poder destrutivo e a sua atitude sarcástica. \nO filme faz parte da masterclass de Lauro António “Cinema Americano\, anos 80”\, com mais de seis dezenas de filmes selecionados pelo antigo cineasta e crítico cinematográfico\, falecido em 2022. \n
URL:https://www.forumluisatodi.pt/espetaculo/gremlins/
CATEGORIES:Cinema
ATTACH;FMTTYPE=image/jpeg:https://www.forumluisatodi.pt/wp-content/uploads/2025/01/Gremlins.jpg
END:VEVENT
END:VCALENDAR