BEGIN:VCALENDAR
VERSION:2.0
PRODID:-//Fórum Luísa Todi - ECPv4.6.9//NONSGML v1.0//EN
CALSCALE:GREGORIAN
METHOD:PUBLISH
X-WR-CALNAME:Fórum Luísa Todi
X-ORIGINAL-URL:https://www.forumluisatodi.pt
X-WR-CALDESC:Events for Fórum Luísa Todi
BEGIN:VEVENT
DTSTART;TZID=Europe/Lisbon:20250214T210000
DTEND;TZID=Europe/Lisbon:20250214T223000
DTSTAMP:20260419T134359
CREATED:20250103T170450Z
LAST-MODIFIED:20250109T170808Z
UID:77522-1739566800-1739572200@www.forumluisatodi.pt
SUMMARY:Garfo
DESCRIPTION:Garfo é um projeto criado em 2019 por Bernardo Tinoco com o intuito de se juntar a três outros jovens com uma abordagem musical idêntica à sua. \nA escolha de dois instrumentos de sopro juntamente com uma secção rítmica sem instrumento polifónico pretende explorar novos timbres e texturas de uma música que alterna entre a sua componente escrita e improvisada. \nEm junho de 2021\, Garfo editou o álbum de estreia através da editora Clean Feed com o apoio da Antena 2 e foi Grupo Revelação do Ano 2021 nos Prémios RTP/Festa do Jazz. \nO repertório integra composições originais de todos os membros. \nNesta 14.ª edição do Círculo de Jazz Fest o grupo apresenta o segundo disco tendo como convidado especial George Dimitriu. \n
URL:https://www.forumluisatodi.pt/espetaculo/garfo/
CATEGORIES:Música
ATTACH;FMTTYPE=image/jpeg:https://www.forumluisatodi.pt/wp-content/uploads/2025/01/George-Dumitriu.jpg
END:VEVENT
END:VCALENDAR