BEGIN:VCALENDAR
VERSION:2.0
PRODID:-//Fórum Luísa Todi - ECPv4.6.9//NONSGML v1.0//EN
CALSCALE:GREGORIAN
METHOD:PUBLISH
X-WR-CALNAME:Fórum Luísa Todi
X-ORIGINAL-URL:https://www.forumluisatodi.pt
X-WR-CALDESC:Events for Fórum Luísa Todi
BEGIN:VEVENT
DTSTART;TZID=Europe/Lisbon:20220206T150000
DTEND;TZID=Europe/Lisbon:20220206T170000
DTSTAMP:20260423T014627
CREATED:20220121T154336Z
LAST-MODIFIED:20220128T103429Z
UID:72205-1644159600-1644166800@www.forumluisatodi.pt
SUMMARY:Feliz Aniversário
DESCRIPTION:Espetáculo de teatro musical para crianças pelo TIL – Teatro Infantil de Lisboa\, que recorda a importância de valores como a amizade\, a empatia e companheirismo. \nEvento da 3.ª edição do Bambolinices – Bienal de Teatro e Artes Performativas para Toda a Família. \n
URL:https://www.forumluisatodi.pt/espetaculo/feliz-aniversario/
CATEGORIES:Crianças
ATTACH;FMTTYPE=image/jpeg:https://www.forumluisatodi.pt/wp-content/uploads/2022/01/FelizAniversario.jpg
END:VEVENT
END:VCALENDAR