BEGIN:VCALENDAR
VERSION:2.0
PRODID:-//Fórum Luísa Todi - ECPv4.6.9//NONSGML v1.0//EN
CALSCALE:GREGORIAN
METHOD:PUBLISH
X-WR-CALNAME:Fórum Luísa Todi
X-ORIGINAL-URL:https://www.forumluisatodi.pt
X-WR-CALDESC:Events for Fórum Luísa Todi
BEGIN:VEVENT
DTSTART;TZID=Europe/Lisbon:20241004T210000
DTEND;TZID=Europe/Lisbon:20241004T223000
DTSTAMP:20260420T073522
CREATED:20240607T091149Z
LAST-MODIFIED:20240613T103125Z
UID:74995-1728075600-1728081000@www.forumluisatodi.pt
SUMMARY:Feliz Aniversário
DESCRIPTION:Comédia de enorme sucesso internacional\, da autoria de Marc Camoletti\, que esteve em cena durante seis anos no West End de Londres e na Broadway\, em Nova Iorque\, antes de ser representada pelos palcos de todo o mundo. \nEste hilariante espetáculo\, vencedor de vários prémios internacionais\, chega agora aos palcos nacionais pela mão de João Baião\, acompanhado pelo talento de Cristina Oliveira\, Fernando Gomes\, Heitor Lourenço\, Susana Cacela e Joana França. \nNa sua elegante casa de campo\, Bernardo\, aproveitando a oportunidade de a sua mulher estar fora\, programa passar um fantástico fim de semana com a sua linda e elegante amante para comemorar o seu aniversário. \nTudo está bem planeado\, nada pode dar errado… até que… em cima da hora\, a sua mulher decide não ir embora. Tudo pode piorar? Sim\, na verdade\, mas levaria muito tempo para explicar aqui. Basta dizer que as complicações\, equívocos e artifícios aumentam a uma velocidade vertiginosa para uma inevitável noite de grande diversão e de muitas gargalhadas. \n
URL:https://www.forumluisatodi.pt/espetaculo/feliz-aniversario-2/2024-10-04/
CATEGORIES:Teatro
ATTACH;FMTTYPE=image/jpeg:https://www.forumluisatodi.pt/wp-content/uploads/2024/06/aniversario.jpg
END:VEVENT
END:VCALENDAR