BEGIN:VCALENDAR
VERSION:2.0
PRODID:-//Fórum Luísa Todi - ECPv4.6.9//NONSGML v1.0//EN
CALSCALE:GREGORIAN
METHOD:PUBLISH
X-WR-CALNAME:Fórum Luísa Todi
X-ORIGINAL-URL:https://www.forumluisatodi.pt
X-WR-CALDESC:Events for Fórum Luísa Todi
BEGIN:VEVENT
DTSTART;TZID=Europe/Lisbon:20220225T210000
DTEND;TZID=Europe/Lisbon:20220225T210000
DTSTAMP:20260423T135555
CREATED:20220128T121342Z
LAST-MODIFIED:20220128T121356Z
UID:72276-1645822800-1645822800@www.forumluisatodi.pt
SUMMARY:Federico Pascucci East Trio
DESCRIPTION:East Trio é um projeto criado pelo saxofonista Federico Pascucci e que traz a essência da música tradicional cigana e das sonoridades dos Balcãs e da Turquia para o contexto criativo do Jazz. \nUma viagem com o trio de saxofone de Jazz acústico através de melodias tradicionais e composições originais\, um encontro da música jazz improvisada com os sons de Gaidas e Zurnas que ecoam pelas montanhas Malesevski da Macedónia\, juntos com a herança dos místicos mestres Mevlevi\, evocados pelo trio\, fortemente unido pela experiência comum da criação musical ocidental. \nA banda é também composta pelo contrabaixista búlgaro Mihail Ivanov\, nascido numa numerosa família de músicos ciganos e criado entre Sofia e Amsterdão\, músico de Jazz reconhecido em diversas cidades europeias e que trabalha no âmbito da música búlgara colaborando regularmente com Theodosii Spassov e Martin Lubenov. \nRiccardo Gambatesa é um dos mais requisitados bateristas do novo Jazz italiano. \nEste concerto vai contar com a participação especial de Georgi Dobrev na flauta tradicional Búlgara (kaval). \n
URL:https://www.forumluisatodi.pt/espetaculo/federico-pascucci-east-trio/
CATEGORIES:Música
ATTACH;FMTTYPE=image/jpeg:https://www.forumluisatodi.pt/wp-content/uploads/2022/01/EastTrio.jpg
END:VEVENT
END:VCALENDAR