BEGIN:VCALENDAR
VERSION:2.0
PRODID:-//Fórum Luísa Todi - ECPv4.6.9//NONSGML v1.0//EN
CALSCALE:GREGORIAN
METHOD:PUBLISH
X-WR-CALNAME:Fórum Luísa Todi
X-ORIGINAL-URL:https://www.forumluisatodi.pt
X-WR-CALDESC:Events for Fórum Luísa Todi
BEGIN:VEVENT
DTSTART;TZID=Europe/Lisbon:20220530T080000
DTEND;TZID=Europe/Lisbon:20220530T170000
DTSTAMP:20260425T163141
CREATED:20220407T132646Z
LAST-MODIFIED:20220407T132646Z
UID:72615-1653897600-1653930000@www.forumluisatodi.pt
SUMMARY:Farrapo Humano
DESCRIPTION:Um alcoolatra tenta de tudo para deixar o vício\, mas a ressaca torna-o mais manipulador e perverso. \nNuma saída de fim de semana com o irmão e a namorada\, cede à tentação e volta a beber. \nToldado pelo álcool\, começa a reviver memórias de histórias que acabaram sempre mal por causa do vício\, mergulhando numa espiral que parece ser a última luta que irá travar. \nSessão do ciclo “Filmes que eu amo”\, das masterclasses sobre história do cinema criadas por Lauro António e que continuam\, agora\, a título póstumo. \n
URL:https://www.forumluisatodi.pt/espetaculo/farrapo-humano/
CATEGORIES:Cinema
ATTACH;FMTTYPE=image/jpeg:https://www.forumluisatodi.pt/wp-content/uploads/2022/04/FarrapoHumano.jpg
END:VEVENT
END:VCALENDAR