BEGIN:VCALENDAR
VERSION:2.0
PRODID:-//Fórum Luísa Todi - ECPv4.6.9//NONSGML v1.0//EN
CALSCALE:GREGORIAN
METHOD:PUBLISH
X-WR-CALNAME:Fórum Luísa Todi
X-ORIGINAL-URL:https://www.forumluisatodi.pt
X-WR-CALDESC:Events for Fórum Luísa Todi
BEGIN:VEVENT
DTSTART;TZID=Europe/Lisbon:20231030T210000
DTEND;TZID=Europe/Lisbon:20231030T223000
DTSTAMP:20260423T070052
CREATED:20230928T153656Z
LAST-MODIFIED:20231030T151504Z
UID:74182-1698699600-1698705000@www.forumluisatodi.pt
SUMMARY:Fado\, História d'uma Cantadeira
DESCRIPTION:Em Alfama\, a cantadeira Ana Maria estreia-se e alcança uma carreira internacional pelas mãos do empresário Sousa Morais. \nMas ela não esquece Júlio\, o seu primeiro amor. \n
URL:https://www.forumluisatodi.pt/espetaculo/fado-historia-duma-cantandeira/
CATEGORIES:Cinema
ATTACH;FMTTYPE=image/jpeg:https://www.forumluisatodi.pt/wp-content/uploads/2023/09/Fado.jpg
END:VEVENT
END:VCALENDAR