BEGIN:VCALENDAR
VERSION:2.0
PRODID:-//Fórum Luísa Todi - ECPv4.6.9//NONSGML v1.0//EN
CALSCALE:GREGORIAN
METHOD:PUBLISH
X-WR-CALNAME:Fórum Luísa Todi
X-ORIGINAL-URL:https://www.forumluisatodi.pt
X-WR-CALDESC:Events for Fórum Luísa Todi
BEGIN:VEVENT
DTSTART;TZID=Europe/Lisbon:20211118T210000
DTEND;TZID=Europe/Lisbon:20211118T223000
DTSTAMP:20260419T223205
CREATED:20211012T081339Z
LAST-MODIFIED:20211012T094437Z
UID:71834-1637269200-1637274600@www.forumluisatodi.pt
SUMMARY:Et Toi Michel
DESCRIPTION: \nEt Toi Michel é o projeto a solo de João Mota (Um Corpo Estranho)\, que apresenta o disco de estreia\, “Perguntem aos Peixes”\, no Fórum Municipal Luísa Todi. \nAo concerto juntam-se vários convidados\, num espetáculo que alia a música à performance teatral e à vídeo-art. \nA música é o lugar onírico onde figura Et Toi Michel. A personagem vai-se descobrindo como um palhaço trovador\, um músico-mimo\, que apenas se exprime na palavra cantada e na surpresa dos instrumentos do seu próprio imaginário. \nAs canções transformam-se em fábulas surrealistas que invocam o desassossego humano\, tentando decifrar o que é um deus\, uma utopia\, um passado\, e almejam deslindar os meandros do tempo. \nSerá a música o único lugar onde se pode prosperar em empatia? Será a poesia o último lugar de ditosa existência? Será\, como diria Marcel Proust\, a música o exemplo único do que poderia ter sido? \nNeste mundo fantástico não há limites entre sonho e realidade. A montagem aposta na interatividade e em efeitos especiais. Uma história encantadora que pretende emocionar toda a família. \n \n
URL:https://www.forumluisatodi.pt/espetaculo/et-toi-michel/
CATEGORIES:Música
ATTACH;FMTTYPE=image/jpeg:https://www.forumluisatodi.pt/wp-content/uploads/2021/10/EtToiMichel.jpg
END:VEVENT
END:VCALENDAR