BEGIN:VCALENDAR
VERSION:2.0
PRODID:-//Fórum Luísa Todi - ECPv4.6.9//NONSGML v1.0//EN
CALSCALE:GREGORIAN
METHOD:PUBLISH
X-WR-CALNAME:Fórum Luísa Todi
X-ORIGINAL-URL:https://www.forumluisatodi.pt
X-WR-CALDESC:Events for Fórum Luísa Todi
BEGIN:VEVENT
DTSTART;TZID=Europe/Lisbon:20190422T210000
DTEND;TZID=Europe/Lisbon:20190422T211000
DTSTAMP:20260421T234807
CREATED:20190125T100133Z
LAST-MODIFIED:20190129T115717Z
UID:68533-1555966800-1555967400@www.forumluisatodi.pt
SUMMARY:ESTE OBSCURO OBJETO DO DESEJO
DESCRIPTION:Depois de ter despejado um balde de água sobre uma mulher que estava no cais de uma estação de comboios\, Mathieu usou como pretexto o incidente para contar aos passageiros do comboio de luxo a sua história de amor com uma ex-empregada. \nJovem e bonita\, a camareira recusou sempre as investidas do patrão\, ao mesmo tempo que lhe foi dando esperanças. \n
URL:https://www.forumluisatodi.pt/espetaculo/este-obscuro-objecto-do-desejo/
CATEGORIES:Cinema
ATTACH;FMTTYPE=image/jpeg:https://www.forumluisatodi.pt/wp-content/uploads/2019/01/Esse_Obscuro_Objeto_de_Desejo_site.jpg
END:VEVENT
END:VCALENDAR