BEGIN:VCALENDAR
VERSION:2.0
PRODID:-//Fórum Luísa Todi - ECPv4.6.9//NONSGML v1.0//EN
CALSCALE:GREGORIAN
METHOD:PUBLISH
X-WR-CALNAME:Fórum Luísa Todi
X-ORIGINAL-URL:https://www.forumluisatodi.pt
X-WR-CALDESC:Events for Fórum Luísa Todi
BEGIN:VEVENT
DTSTART;TZID=Europe/Lisbon:20230613T183000
DTEND;TZID=Europe/Lisbon:20230613T193000
DTSTAMP:20260424T025707
CREATED:20230606T161231Z
LAST-MODIFIED:20230607T083422Z
UID:74035-1686681000-1686684600@www.forumluisatodi.pt
SUMMARY:Esta Pele
DESCRIPTION:E se um espetáculo nos fizer mais  perguntas que as respostas que nos dá?!  \nPara quê tantas perguntas? Afinal\, para que serve perguntar para que serve?  \nPara que serve um palco vazio? Para que serve estarmos todos juntos num teatro? Para que serve o nosso corpo? Para que serve a pele?  \nTemos uma história para contar e é isso que hoje nos serve a existência.  \n“Esta Pele” é o espetáculo de final de ano da Academia de Música e Belas-Artes Luísa Todi\, que\, integrando todos os alunos da escola\, propõe uma abordagem experimental que incita a uma reflexão sobre a criação  artística e sobre a pertinência dos temas que no nosso dia a dia elegemos (como cidadãos) falar e discutir. \n
URL:https://www.forumluisatodi.pt/espetaculo/esta-pele/
CATEGORIES:Música
ATTACH;FMTTYPE=image/jpeg:https://www.forumluisatodi.pt/wp-content/uploads/2023/06/EstaPele.jpg
END:VEVENT
END:VCALENDAR