BEGIN:VCALENDAR
VERSION:2.0
PRODID:-//Fórum Luísa Todi - ECPv4.6.9//NONSGML v1.0//EN
CALSCALE:GREGORIAN
METHOD:PUBLISH
X-WR-CALNAME:Fórum Luísa Todi
X-ORIGINAL-URL:https://www.forumluisatodi.pt
X-WR-CALDESC:Events for Fórum Luísa Todi
BEGIN:VEVENT
DTSTART;TZID=Europe/Lisbon:20190401T210000
DTEND;TZID=Europe/Lisbon:20190401T211000
DTSTAMP:20260422T025959
CREATED:20190125T093539Z
LAST-MODIFIED:20190129T114031Z
UID:68515-1554152400-1554153000@www.forumluisatodi.pt
SUMMARY:ESCÂNDALO NA TV
DESCRIPTION:Howard Beale\, pivot de televisão despedido devido à queda das audiências do seu programa no canal UBS\, anuncia em direto que se vai suicidar em frente às câmaras de televisão. \nCuriosamente\, a ação de Howard transforma-o num fenómeno de audiências e a nova diretora da estação televisiva explora-o de forma sensacionalista. \nNomeado para 10 Óscares da Academia em 1976\, a sátira que retrata a loucura dos media arrecadou as estatuetas de melhor argumento adaptado\, melhor atriz\, melhor ator e melhor atriz secundária. \n
URL:https://www.forumluisatodi.pt/espetaculo/escandalo-na-tv/
CATEGORIES:Cinema
ATTACH;FMTTYPE=image/jpeg:https://www.forumluisatodi.pt/wp-content/uploads/2019/01/Escandalo_na_TV_site.jpg
END:VEVENT
END:VCALENDAR