BEGIN:VCALENDAR
VERSION:2.0
PRODID:-//Fórum Luísa Todi - ECPv4.6.9//NONSGML v1.0//EN
CALSCALE:GREGORIAN
METHOD:PUBLISH
X-WR-CALNAME:Fórum Luísa Todi
X-ORIGINAL-URL:https://www.forumluisatodi.pt
X-WR-CALDESC:Events for Fórum Luísa Todi
BEGIN:VEVENT
DTSTART;VALUE=DATE:20240918
DTEND;VALUE=DATE:20240919
DTSTAMP:20260420T014405
CREATED:20240918T101738Z
LAST-MODIFIED:20241106T141031Z
UID:75163-1726617600-1726703999@www.forumluisatodi.pt
SUMMARY:Era uma vez o Fórum...
DESCRIPTION:Bem-vindos ao nosso projeto “Era uma vez o Fórum…”. \nO Fórum Municipal Luísa Todi toma como ponto de partida o património arquitetónico\, artístico e cultural\, deste que é o “coração da cidade”\, e cria\, numa parceria com o Artfusion Portugal\, um projeto criativo\, artístico e inclusivo\, destinado às instituições escolares. \nEste projeto baseia-se em visitas criativamente guiadas ao edifício\, que nos vai fazer viajar no espaço e no tempo\, através de um conjunto de atividades artísticas e lúdicas\, super interativas e criativas! \nPara mais informações e inscrições\, clique aqui. \n \n \n
URL:https://www.forumluisatodi.pt/espetaculo/era-uma-vez-o-forum/2024-09-18/
CATEGORIES:Crianças,Outros
ATTACH;FMTTYPE=image/jpeg:https://www.forumluisatodi.pt/wp-content/uploads/2024/09/Era_uma_vez_Forum_2024.jpg
END:VEVENT
END:VCALENDAR