BEGIN:VCALENDAR
VERSION:2.0
PRODID:-//Fórum Luísa Todi - ECPv4.6.9//NONSGML v1.0//EN
CALSCALE:GREGORIAN
METHOD:PUBLISH
X-WR-CALNAME:Fórum Luísa Todi
X-ORIGINAL-URL:https://www.forumluisatodi.pt
X-WR-CALDESC:Events for Fórum Luísa Todi
BEGIN:VEVENT
DTSTART;TZID=Europe/Lisbon:20240706T213000
DTEND;TZID=Europe/Lisbon:20240706T233000
DTSTAMP:20260420T013635
CREATED:20240513T100800Z
LAST-MODIFIED:20240513T100800Z
UID:74953-1720301400-1720308600@www.forumluisatodi.pt
SUMMARY:Em tempo...
DESCRIPTION:Tempo\, palavra de múltiplos significados\, que podemos analisar em diversos contextos\, físico\, matemático\, meteorológico\, biológico\, cultural ou simplesmente filosófico. \nTempo\, sucessão cronológica de acontecimentos\, que envolvem memórias\, que contam histórias\, que justificam factos. \nE há ainda o tempo de cada um de nós\, necessariamente finito\, ou não\, mas neste caso apenas para os que da lei da morte se libertaram. E finito ou não\, e pelas mesmas razões\, é também o tempo\ndas instituições. \nMas em qualquer dos casos\, temos sempre um tempo passado\, um tempo presente e um tempo futuro\, muito embora Albert Einstein tenha dito que “a distinção entre passado\, presente e futuro\nnão passa de uma firme e persistente ilusão” . \nE porque o tempo é tudo isso e muito mais\, porque não comemorar o tempo num concerto? Primeiro\, numa viagem ao passado\, recordando temas que fazem parte do nosso imaginário\, que outros já cantaram e que o Coral Luísa Todi também já interpretou\, num regresso aos anos loucos da música pop ou num recordar temas que abril imortalizou. Depois\, temos o presente\, suportado por aquilo que é hoje o Coral Luísa Todi\, com aqueles que atualmente o integram. E nesse presente\, que estará em palco no dia 6 de julho\, iremos construir as pontes para o futuro\, que todos\ndesejamos seja brilhante. \nTudo isto “em tempo…” e num concerto que comemora também o 61.º aniversário da primeira atuação pública do Coral Luísa Todi. \nE por que no tempo e em todo o tempo\, existe também a importância dos amigos\, voltaremos a ter em palco vários convidados\, sob a habitual direção do maestro Fernando Malão. \n
URL:https://www.forumluisatodi.pt/espetaculo/em-tempo/
CATEGORIES:Música
ATTACH;FMTTYPE=image/jpeg:https://www.forumluisatodi.pt/wp-content/uploads/2024/05/AA-10.jpg
END:VEVENT
END:VCALENDAR