BEGIN:VCALENDAR
VERSION:2.0
PRODID:-//Fórum Luísa Todi - ECPv4.6.9//NONSGML v1.0//EN
CALSCALE:GREGORIAN
METHOD:PUBLISH
X-WR-CALNAME:Fórum Luísa Todi
X-ORIGINAL-URL:https://www.forumluisatodi.pt
X-WR-CALDESC:Events for Fórum Luísa Todi
BEGIN:VEVENT
DTSTART;TZID=Europe/Lisbon:20230826T213000
DTEND;TZID=Europe/Lisbon:20230826T223000
DTSTAMP:20260423T185912
CREATED:20230711T104759Z
LAST-MODIFIED:20230725T162137Z
UID:74086-1693085400-1693089000@www.forumluisatodi.pt
SUMMARY:Elektra.25
DESCRIPTION:O mito de Electra pertence ao ciclo troiano. Dentro da Tragédia Grega\, é a única que preserva as versões dos três grandes poetas da Antiguidade: Ésquilo (dentro de Coéfora)\, Sófocles e Eurípides. \nO ponto de partida do texto original e do que é abordado aqui será o de “Electra”\, de Sófocles\, e “Elektra”\, da versão que Hugo von Hoffmansthal criou para a ópera de Strauss. \nO tema central é a espiral de violência (morte-vingança-morte) que se perpetua na casa dos Atridas. \nA vingança é o principal “leitmotiv” das diferentes versões da obra\, um dos grandes males da Humanidade\, que dois mil e quinhentos anos depois continua a causar grandes tragédias e calamidades em escalas muito diversas\, do doméstico ao planetário; e\, sobretudo\, uma pergunta ao espetador: “o que faria neste caso?”. \nEmoções e perguntas são os objetivos do teatro e em “Elektra” elas são expressas de forma prodigiosa. \n  \n  \n
URL:https://www.forumluisatodi.pt/espetaculo/elektra-25/
CATEGORIES:Teatro
ATTACH;FMTTYPE=image/jpeg:https://www.forumluisatodi.pt/wp-content/uploads/2023/07/Elektra25.jpg
END:VEVENT
END:VCALENDAR