BEGIN:VCALENDAR
VERSION:2.0
PRODID:-//Fórum Luísa Todi - ECPv4.6.9//NONSGML v1.0//EN
CALSCALE:GREGORIAN
METHOD:PUBLISH
X-WR-CALNAME:Fórum Luísa Todi
X-ORIGINAL-URL:https://www.forumluisatodi.pt
X-WR-CALDESC:Events for Fórum Luísa Todi
BEGIN:VEVENT
DTSTART;TZID=Europe/Lisbon:20240512T183000
DTEND;TZID=Europe/Lisbon:20240512T203000
DTSTAMP:20260419T223047
CREATED:20240404T163026Z
LAST-MODIFIED:20240408T115210Z
UID:74817-1715538600-1715545800@www.forumluisatodi.pt
SUMMARY:Ecos de Liberdade
DESCRIPTION:Espetáculo de encerramento do 12.º Festival Internacional de Música de Setúbal\, com direção musical do maestro Pablo Urbina\, com a Orquestra Sinfónica do Festival Internacional de Música de Setúbal e as participações da Academia de Música e Belas-Artes Luísa Todi\, Conservatório Regional de Setúbal\, Conservatório Regional de Palmela\, Academia de Música de Almada\, Sociedade Musical Capricho Setubalense e Conservatório Regional Baixo Alentejo. \n“Ecos de Liberdade” dá tema à edição 2024 do Festival Internacional de Música de Setúbal\, organizado pela A7M – Associação Festival de Música de Setúbal com a Câmara Municipal de Setúbal e o The Helen Hamlyn Trust. \n
URL:https://www.forumluisatodi.pt/espetaculo/ecos-de-liberdade/
CATEGORIES:Música
ATTACH;FMTTYPE=image/jpeg:https://www.forumluisatodi.pt/wp-content/uploads/2024/04/Orquestra_Sinfonica_FIMS.jpg
END:VEVENT
END:VCALENDAR