BEGIN:VCALENDAR
VERSION:2.0
PRODID:-//Fórum Luísa Todi - ECPv4.6.9//NONSGML v1.0//EN
CALSCALE:GREGORIAN
METHOD:PUBLISH
X-WR-CALNAME:Fórum Luísa Todi
X-ORIGINAL-URL:https://www.forumluisatodi.pt
X-WR-CALDESC:Events for Fórum Luísa Todi
BEGIN:VEVENT
DTSTART;TZID=Europe/Lisbon:20220516T210000
DTEND;TZID=Europe/Lisbon:20220516T210000
DTSTAMP:20260424T212755
CREATED:20220314T124038Z
LAST-MODIFIED:20220407T130505Z
UID:72489-1652734800-1652734800@www.forumluisatodi.pt
SUMMARY:E Tudo o Vento Levou
DESCRIPTION:Scarlett O’Hara é uma jovem mimada que consegue tudo o que quer. No entanto\, algo falta na sua vida: o amor de Ashley Wilkes\, um nobre sulista destinado a carsar-se com a prima Melanie. \nTudo muda quando a Guerra Civil americana explode e Scarlett precisa lutar para sobreviver e manter a fazenda da família. \nSessão do ciclo “Filmes que eu amo”\, das masterclasses sobre história do cinema criadas por Lauro António e que continuam\, agora\, a título póstumo. \n
URL:https://www.forumluisatodi.pt/espetaculo/e-tudo-o-vento-levou/
CATEGORIES:Cinema
ATTACH;FMTTYPE=image/jpeg:https://www.forumluisatodi.pt/wp-content/uploads/2022/03/TudoVentoLevou.jpg
END:VEVENT
END:VCALENDAR