BEGIN:VCALENDAR
VERSION:2.0
PRODID:-//Fórum Luísa Todi - ECPv4.6.9//NONSGML v1.0//EN
CALSCALE:GREGORIAN
METHOD:PUBLISH
X-WR-CALNAME:Fórum Luísa Todi
X-ORIGINAL-URL:https://www.forumluisatodi.pt
X-WR-CALDESC:Events for Fórum Luísa Todi
BEGIN:VEVENT
DTSTART;TZID=Europe/Lisbon:20211011T190000
DTEND;TZID=Europe/Lisbon:20211011T230000
DTSTAMP:20260419T160055
CREATED:20211001T111914Z
LAST-MODIFIED:20211001T132111Z
UID:71783-1633978800-1633993200@www.forumluisatodi.pt
SUMMARY:DUPLA TRAIÇÃO | A DEUSA DO MAL
DESCRIPTION:Sessão dupla do ciclo das Lauro António Masterclass: Cinema Negro Norte-Americano. \nDUPLA TRAIÇÃO\n(Criss Cross)\n19h00\nSam Thompson vive um romance conturbado com Anna. Eles divorciaram-se\, mas Sam ainda continua apaixonado pela ex-mulher. Ele regressa a Los Angeles e reencontra-se com Anna\, só que\, quando ele acha que o casamento ainda tem salvação\, Anna decide casar-se com o gangster “Slim” Dundee. Mesmo assim\, Anna não está feliz e\, meses depois\, quando volta a encontrar Sam\, ela conta-lhe que Slim a espancava. Sam prepara então um plano de roubo a um carro blindado de transporte de valores para conseguir dinheiro e fugir com Anna. \nA DEUSA DO MAL\n(Born to be Bad)\n21h00\nChristabel Caine é uma órfã que viveu a infância com a tia Clara numa pequena cidade do interior da Califórnia. Quando a menina cresce\, Clara conversa com o John Caine\, tio de Christabel e editor em São Francisco\, para que lhe dê um emprego de forma a que ela possa terminar a faculdade. Christabel ocupa o lugar da eficiente secretária de John\, Donna Foster\, prestes a casar com o milionário Curtis Carey. Enquanto estuda\, Christabel divide o apartamento com Donna e conhece o noivo e alguns amigos dela\, o pintor Gabriel ‘Gobby’ Broome e o escritor Nick Bradley. Christabel e Nick paixonam-se\, mas ela revela-se manipuladora\, com o objetivo de roubar o noivo milionário de Donna. \n
URL:https://www.forumluisatodi.pt/espetaculo/dupla-traicao-a-deusa-do-mal/
CATEGORIES:Cinema
ATTACH;FMTTYPE=image/png:https://www.forumluisatodi.pt/wp-content/uploads/2021/10/DeusaMal-DuplaTraicao.png
END:VEVENT
END:VCALENDAR