BEGIN:VCALENDAR
VERSION:2.0
PRODID:-//Fórum Luísa Todi - ECPv4.6.9//NONSGML v1.0//EN
CALSCALE:GREGORIAN
METHOD:PUBLISH
X-WR-CALNAME:Fórum Luísa Todi
X-ORIGINAL-URL:https://www.forumluisatodi.pt
X-WR-CALDESC:Events for Fórum Luísa Todi
BEGIN:VEVENT
DTSTART;TZID=Europe/Lisbon:20220213T170000
DTEND;TZID=Europe/Lisbon:20220213T170000
DTSTAMP:20260423T044632
CREATED:20220121T160653Z
LAST-MODIFIED:20220201T105455Z
UID:72223-1644771600-1644771600@www.forumluisatodi.pt
SUMMARY:Dona Natureza
DESCRIPTION:Musical para toda a família\, adaptado pela GATEM – Espelho Mágico a partir da obra de Eduardo Leão Waisman. \nEvento da 3.ª edição do Bambolinices – Bienal de Teatro e Artes Performativas para Toda a Família. \n  \n
URL:https://www.forumluisatodi.pt/espetaculo/dona-natureza-3/
CATEGORIES:Crianças
ATTACH;FMTTYPE=image/jpeg:https://www.forumluisatodi.pt/wp-content/uploads/2022/01/DonaNatureza.jpg
END:VEVENT
END:VCALENDAR