BEGIN:VCALENDAR
VERSION:2.0
PRODID:-//Fórum Luísa Todi - ECPv4.6.9//NONSGML v1.0//EN
CALSCALE:GREGORIAN
METHOD:PUBLISH
X-WR-CALNAME:Fórum Luísa Todi
X-ORIGINAL-URL:https://www.forumluisatodi.pt
X-WR-CALDESC:Events for Fórum Luísa Todi
BEGIN:VEVENT
DTSTART;TZID=Europe/Lisbon:20190117T213000
DTEND;TZID=Europe/Lisbon:20190117T214000
DTSTAMP:20260425T202655
CREATED:20181220T113203Z
LAST-MODIFIED:20181220T113203Z
UID:68031-1547760600-1547761200@www.forumluisatodi.pt
SUMMARY:DIOGO PIÇARRA
DESCRIPTION:Diogo Piçarra decidiu fazer uma pausa dos maiores palcos do país para em 2019 se apresentar ao vivo exclusivamente em auditórios com a Tour Abrigo. \nO mote para esta tour exclusiva foi dado com “Abrigo”\, um EP com três músicas inéditas lançado de surpresa\, digitalmente\, a 25 de maio de 2018\, de onde foi extraído o single “Paraíso”\, o qual\, rapidamente\, se tornou num dos seus maiores sucessos. \nNa Tour Abrigo\, Diogo Piçarra apresenta-se de uma forma mais intimista\, a solo\, e em alguns momentos acompanhado por Francisco Aragão\, que faz parte do seu habitual trio de músicos\, onde é responsável pelas guitarras\, teclados e programações. \nEm Abrigo\, Diogo Piçarra dá novas roupagens às suas canções\, pega em canções de outros e convida todos os que quiserem a partilhar com ele estes momentos intimistas. O espetáculo\, preparado cuidadosamente\, tem\, como é habitual nos concertos do artista\, uma forte componente visual. \nDiogo Piçarra é\, atualmente\, um dos nomes maiores da música portuguesa e esta será a primeira vez que se apresenta num formato intimista\, o que permitirá uma maior proximidade com o público. \nOs últimos três anos têm sido memoráveis para o cantor\, com centenas de concertos de norte a sul do país e no estrangeiro\, vários singles de platina e ouro\, galardão de platina para o álbum “Espelho” e de ouro para “do=s”\, além de diversas colaborações com artistas nacionais e internacionais. Em 2018\, ganhou o Prémio José da Ponte\, atribuído pela SPA aos jovens compositores. \n
URL:https://www.forumluisatodi.pt/espetaculo/diogo-picarra/
CATEGORIES:Música
ATTACH;FMTTYPE=image/jpeg:https://www.forumluisatodi.pt/wp-content/uploads/2018/12/Diogo_Piçarra_site.jpg
END:VEVENT
END:VCALENDAR