BEGIN:VCALENDAR
VERSION:2.0
PRODID:-//Fórum Luísa Todi - ECPv4.6.9//NONSGML v1.0//EN
CALSCALE:GREGORIAN
METHOD:PUBLISH
X-WR-CALNAME:Fórum Luísa Todi
X-ORIGINAL-URL:https://www.forumluisatodi.pt
X-WR-CALDESC:Events for Fórum Luísa Todi
BEGIN:VEVENT
DTSTART;TZID=Europe/Lisbon:20220429T210000
DTEND;TZID=Europe/Lisbon:20220429T210000
DTSTAMP:20260425T001655
CREATED:20220314T150033Z
LAST-MODIFIED:20220412T134508Z
UID:72506-1651266000-1651266000@www.forumluisatodi.pt
SUMMARY:Dia Mundial da Dança
DESCRIPTION:“Rehlum” é um novo bailado da Pequena Companhia/Little Company\, da Academia de Daança Contemporânea de Setúbal\, coreografado por Iolanda Rodrigues\, com música de George Bizet e Jorge Salgueiro\, sonorizado ao vivo pelo Coro Setúbal Voz\, com a participação de membros do Ateliê de Ópera de Setúbal. \n“Rehlum” nasce da reflexão sobre a necessidade incessante de reconhecer e entender a importância da mulher e da sua liberdade de expressão na sociedade atual. \nTendo como mote a resiliência\, a esperança\, a humanidade\, a união e a memória\, esta peça\, onde a dança e o canto lírico se casam numa harmonia contemporânea\, é sobretudo uma ode à mulher\, representada através da sua força e convicções. \n
URL:https://www.forumluisatodi.pt/espetaculo/dia-mundial-da-danca/
CATEGORIES:Dança
ATTACH;FMTTYPE=image/png:https://www.forumluisatodi.pt/wp-content/uploads/2022/03/Rehlum.png
END:VEVENT
END:VCALENDAR