BEGIN:VCALENDAR
VERSION:2.0
PRODID:-//Fórum Luísa Todi - ECPv4.6.9//NONSGML v1.0//EN
CALSCALE:GREGORIAN
METHOD:PUBLISH
X-WR-CALNAME:Fórum Luísa Todi
X-ORIGINAL-URL:https://www.forumluisatodi.pt
X-WR-CALDESC:Events for Fórum Luísa Todi
BEGIN:VEVENT
DTSTART;TZID=Europe/Lisbon:20190518T213000
DTEND;TZID=Europe/Lisbon:20190518T214000
DTSTAMP:20260421T144032
CREATED:20190417T143035Z
LAST-MODIFIED:20190417T143035Z
UID:68660-1558215000-1558215600@www.forumluisatodi.pt
SUMMARY:DA MEIA PONTA À PONTA
DESCRIPTION:Espetáculo de ballet clássico pelo Estúdio de Dança Kelly Nakamura\, pelo Centro Comunitário du Bocage\, pela Secção de Ginástica do Vitória e pela Sociedade Filarmónica Perpétua Azeitonense.\nEvento do programa comemorativo do Dia Mundial da Dança – Setúbal a Dançar. \n
URL:https://www.forumluisatodi.pt/espetaculo/da-meia-ponta-a-ponta/
CATEGORIES:Dança
ATTACH;FMTTYPE=image/jpeg:https://www.forumluisatodi.pt/wp-content/uploads/2019/04/Ballet_Classico_site.jpg
END:VEVENT
END:VCALENDAR