BEGIN:VCALENDAR
VERSION:2.0
PRODID:-//Fórum Luísa Todi - ECPv4.6.9//NONSGML v1.0//EN
CALSCALE:GREGORIAN
METHOD:PUBLISH
X-WR-CALNAME:Fórum Luísa Todi
X-ORIGINAL-URL:https://www.forumluisatodi.pt
X-WR-CALDESC:Events for Fórum Luísa Todi
BEGIN:VEVENT
DTSTART;TZID=Europe/Lisbon:20220527T210000
DTEND;TZID=Europe/Lisbon:20220527T223000
DTSTAMP:20260426T004055
CREATED:20220414T092937Z
LAST-MODIFIED:20220422T095133Z
UID:72656-1653685200-1653690600@www.forumluisatodi.pt
SUMMARY:Convite à Viagem
DESCRIPTION:Concerto com as participações de Marcelo Bratke (piano)\, Marco Gambino (ator) e Mariannita Luzzati (filme)\, com a participação do Conservatório Regional de Setúbal e Flamenquitos de Sant’Iago\, no âmbito do Festival Internacional de Música de Setúbal. \n
URL:https://www.forumluisatodi.pt/espetaculo/convite-a-viagem/
CATEGORIES:Música
ATTACH;FMTTYPE=image/jpeg:https://www.forumluisatodi.pt/wp-content/uploads/2022/04/Marcelo-e-Marco-1.jpg
END:VEVENT
END:VCALENDAR