BEGIN:VCALENDAR
VERSION:2.0
PRODID:-//Fórum Luísa Todi - ECPv4.6.9//NONSGML v1.0//EN
CALSCALE:GREGORIAN
METHOD:PUBLISH
X-WR-CALNAME:Fórum Luísa Todi
X-ORIGINAL-URL:https://www.forumluisatodi.pt
X-WR-CALDESC:Events for Fórum Luísa Todi
BEGIN:VEVENT
DTSTART;TZID=Europe/Lisbon:20231208T113000
DTEND;TZID=Europe/Lisbon:20231208T130000
DTSTAMP:20260419T223558
CREATED:20231204T142850Z
LAST-MODIFIED:20231204T142850Z
UID:74405-1702035000-1702040400@www.forumluisatodi.pt
SUMMARY:Conservatório Regional de Setúbal
DESCRIPTION:O Conservatório Regional de Setúbal apresenta o trabalho desenvolvido pelas classes de conjunto instrumentais e vocais. \n
URL:https://www.forumluisatodi.pt/espetaculo/conservatorio-regional-de-setubal-3/2023-12-08/
CATEGORIES:Música
ATTACH;FMTTYPE=image/jpeg:https://www.forumluisatodi.pt/wp-content/uploads/2023/12/ConservatorioRegionalSetubal.jpg
END:VEVENT
END:VCALENDAR