BEGIN:VCALENDAR
VERSION:2.0
PRODID:-//Fórum Luísa Todi - ECPv4.6.9//NONSGML v1.0//EN
CALSCALE:GREGORIAN
METHOD:PUBLISH
X-WR-CALNAME:Fórum Luísa Todi
X-ORIGINAL-URL:https://www.forumluisatodi.pt
X-WR-CALDESC:Events for Fórum Luísa Todi
BEGIN:VEVENT
DTSTART;TZID=Europe/Lisbon:20230603T210000
DTEND;TZID=Europe/Lisbon:20230603T220000
DTSTAMP:20260424T053349
CREATED:20230515T093108Z
LAST-MODIFIED:20230515T093108Z
UID:74015-1685826000-1685829600@www.forumluisatodi.pt
SUMMARY:Concerto pela Paz
DESCRIPTION:Projeto musical “Zeca Tocado por Miúdos”\, do Conservatório Regional de Setúbal\, que conta nesta apresentação com o contributo da Academia de Dança Contemporânea de Setúbal. \n  \n
URL:https://www.forumluisatodi.pt/espetaculo/concerto-pela-paz/
CATEGORIES:Música
ATTACH;FMTTYPE=image/jpeg:https://www.forumluisatodi.pt/wp-content/uploads/2023/05/ZecaTocadoMiudos.jpg
END:VEVENT
END:VCALENDAR